BEGIN:VCALENDAR
VERSION:2.0
PRODID:-//Plone.org//NONSGML plone.app.event//EN
X-WR-TIMEZONE:Europe/Madrid
BEGIN:VEVENT
SUMMARY:Festa Major 2019: Parc d'aigua - Aiguafest
DTSTART;VALUE=DATE:20190820
DTEND;VALUE=DATE:20190821
DTSTAMP;VALUE=DATE-TIME:20260423T124743Z
UID:49485ef89d954c43826b1cbb93313e86@www.molletvalles.cat
CATEGORIES:Festes populars
CREATED;VALUE=DATE-TIME:20190718T063019Z
LAST-MODIFIED;VALUE=DATE-TIME:20221222T041853Z
LOCATION:Parc de les Pruneres
URL:https://www.molletvalles.cat/ca/actualitat/agenda/21108
END:VEVENT
END:VCALENDAR
