BEGIN:VCALENDAR
VERSION:2.0
PRODID:-//Plone.org//NONSGML plone.app.event//EN
X-WR-TIMEZONE:Europe/Madrid
BEGIN:VEVENT
SUMMARY:XXXVI Fira d'Artesans: Parades d’artesans i tallers
DTSTART;VALUE=DATE:20190913
DTEND;VALUE=DATE:20190914
DTSTAMP;VALUE=DATE-TIME:20260423T124401Z
UID:ab9c06b4874048d391f2ec72fdc2d392@www.molletvalles.cat
CATEGORIES:Exposicions i fires
CREATED;VALUE=DATE-TIME:20190722T103639Z
LAST-MODIFIED;VALUE=DATE-TIME:20221222T042049Z
LOCATION:Pl. Artesania\, carrers Portugal\, Can Pacià\, Sol i Bartomeu Ro
 bert 
URL:https://www.molletvalles.cat/ca/actualitat/agenda/21135
END:VEVENT
END:VCALENDAR
