BEGIN:VCALENDAR
VERSION:2.0
PRODID:-//Plone.org//NONSGML plone.app.event//EN
X-WR-TIMEZONE:Europe/Madrid
BEGIN:VEVENT
SUMMARY:Actuació Grup de playback de l’Associació Amics de l’Art: "B
 on Nadal amb els Amics de l'Art"
DTSTART;VALUE=DATE:20191127
DTEND;VALUE=DATE:20191128
DTSTAMP;VALUE=DATE-TIME:20260423T124710Z
UID:8d980169d6414857a9ce4733fea1de8b@www.molletvalles.cat
CATEGORIES:Música\, cinema i espectacles
CREATED;VALUE=DATE-TIME:20190909T081657Z
LAST-MODIFIED;VALUE=DATE-TIME:20221222T042132Z
URL:https://www.molletvalles.cat/ca/actualitat/agenda/21148
END:VEVENT
END:VCALENDAR
