BEGIN:VCALENDAR
VERSION:2.0
PRODID:-//Plone.org//NONSGML plone.app.event//EN
X-WR-TIMEZONE:Europe/Madrid
BEGIN:VEVENT
SUMMARY:XXXVI Fira d'Artesans: Sardinada a càrrec dels veïns de la Fira
DTSTART;VALUE=DATE:20190913
DTEND;VALUE=DATE:20190914
DTSTAMP;VALUE=DATE-TIME:20260423T124653Z
UID:3b7d2ad380564ff1b7d3298e8c588847@www.molletvalles.cat
CATEGORIES:Exposicions i fires
CREATED;VALUE=DATE-TIME:20190910T101202Z
LAST-MODIFIED;VALUE=DATE-TIME:20221222T042221Z
LOCATION:Plaça de l'Artesania
URL:https://www.molletvalles.cat/ca/actualitat/agenda/21165
END:VEVENT
END:VCALENDAR
