BEGIN:VCALENDAR
VERSION:2.0
PRODID:-//Plone.org//NONSGML plone.app.event//EN
X-WR-TIMEZONE:Europe/Madrid
BEGIN:VEVENT
SUMMARY:Discoteca per a petits i grans
DTSTART;VALUE=DATE:20190927
DTEND;VALUE=DATE:20190928
DTSTAMP;VALUE=DATE-TIME:20260423T124303Z
UID:0e5b2da6edb34b20b70c0a94f8953780@www.molletvalles.cat
CATEGORIES:Infantils
CREATED;VALUE=DATE-TIME:20190916T105220Z
LAST-MODIFIED;VALUE=DATE-TIME:20221222T042407Z
URL:https://www.molletvalles.cat/ca/actualitat/agenda/21190
END:VEVENT
END:VCALENDAR
