BEGIN:VCALENDAR
VERSION:2.0
PRODID:-//Plone.org//NONSGML plone.app.event//EN
X-WR-TIMEZONE:Europe/Madrid
BEGIN:VEVENT
SUMMARY:Reflexions a l’entorn del llibre "Panikkar per Panikkar"
DTSTART;VALUE=DATE:20191017
DTEND;VALUE=DATE:20191018
DTSTAMP;VALUE=DATE-TIME:20260423T152613Z
UID:708d201613b9414a95aa856a91f5f562@www.molletvalles.cat
CATEGORIES:Conferències
CREATED;VALUE=DATE-TIME:20191009T112619Z
LAST-MODIFIED;VALUE=DATE-TIME:20221222T042851Z
URL:https://www.molletvalles.cat/ca/actualitat/agenda/21268
END:VEVENT
END:VCALENDAR
