BEGIN:VCALENDAR
VERSION:2.0
PRODID:-//Plone.org//NONSGML plone.app.event//EN
X-WR-TIMEZONE:Europe/Madrid
BEGIN:VEVENT
SUMMARY:Programa de ràdio: "Posa't les piles"
DTSTART;VALUE=DATE:20191125
DTEND;VALUE=DATE:20191126
DTSTAMP;VALUE=DATE-TIME:20260419T164051Z
UID:40fc4f494d1949deb3b3c6c10840cdb0@www.molletvalles.cat
CATEGORIES:Actes diversos
CREATED;VALUE=DATE-TIME:20191114T110638Z
LAST-MODIFIED;VALUE=DATE-TIME:20221222T043629Z
LOCATION:Ràdio Mollet
URL:https://www.molletvalles.cat/ca/actualitat/agenda/21386
END:VEVENT
END:VCALENDAR
