BEGIN:VCALENDAR
VERSION:2.0
PRODID:-//Plone.org//NONSGML plone.app.event//EN
X-WR-TIMEZONE:Europe/Madrid
BEGIN:VEVENT
SUMMARY:Acte “ I love my city”
DTSTART;VALUE=DATE:20191207
DTEND;VALUE=DATE:20191208
DTSTAMP;VALUE=DATE-TIME:20260421T183145Z
UID:df7e424b69064f439d90b275561c29c8@www.molletvalles.cat
CATEGORIES:Actes diversos
CREATED;VALUE=DATE-TIME:20191204T122407Z
LAST-MODIFIED;VALUE=DATE-TIME:20221222T044033Z
LOCATION:L’Illa
URL:https://www.molletvalles.cat/ca/actualitat/agenda/21450
END:VEVENT
END:VCALENDAR
