BEGIN:VCALENDAR
VERSION:2.0
PRODID:-//Plone.org//NONSGML plone.app.event//EN
X-WR-TIMEZONE:Europe/Madrid
BEGIN:VEVENT
SUMMARY:Dia dels innocents: “Farem una llufa”
DTSTART;VALUE=DATE:20191228
DTEND;VALUE=DATE:20191229
DTSTAMP;VALUE=DATE-TIME:20260425T122934Z
UID:dedad8a979ea414bb059ee77107e250e@www.molletvalles.cat
CATEGORIES:Cursos i tallers
CREATED;VALUE=DATE-TIME:20191209T120110Z
LAST-MODIFIED;VALUE=DATE-TIME:20221222T044245Z
LOCATION:Mercat Municipal (Ludoteca)
URL:https://www.molletvalles.cat/ca/actualitat/agenda/21494
END:VEVENT
END:VCALENDAR
