BEGIN:VCALENDAR
VERSION:2.0
PRODID:-//Plone.org//NONSGML plone.app.event//EN
X-WR-TIMEZONE:Europe/Madrid
BEGIN:VEVENT
SUMMARY:“ I love my city”: Acte “Back to Basis” 
DTSTART;VALUE=DATE:20191228
DTEND;VALUE=DATE:20191229
DTSTAMP;VALUE=DATE-TIME:20260423T133615Z
UID:f4209e248546472da883a7c1e8f180ae@www.molletvalles.cat
CREATED;VALUE=DATE-TIME:20191209T120530Z
LAST-MODIFIED;VALUE=DATE-TIME:20221222T044250Z
LOCATION:L’Illa 
URL:https://www.molletvalles.cat/ca/actualitat/agenda/21496
END:VEVENT
END:VCALENDAR
