BEGIN:VCALENDAR
VERSION:2.0
PRODID:-//Plone.org//NONSGML plone.app.event//EN
X-WR-TIMEZONE:Europe/Madrid
BEGIN:VEVENT
SUMMARY:Sant Vicenç 2020: Missa de Festa Major
DTSTART;VALUE=DATE:20200122
DTEND;VALUE=DATE:20200123
DTSTAMP;VALUE=DATE-TIME:20260423T124745Z
UID:d6c93316b9b44472b1ac66528c1331e5@www.molletvalles.cat
CATEGORIES:Actes diversos
CREATED;VALUE=DATE-TIME:20200114T133326Z
LAST-MODIFIED;VALUE=DATE-TIME:20221222T044629Z
URL:https://www.molletvalles.cat/ca/actualitat/agenda/21564
END:VEVENT
END:VCALENDAR
