BEGIN:VCALENDAR
VERSION:2.0
PRODID:-//Plone.org//NONSGML plone.app.event//EN
X-WR-TIMEZONE:Europe/Madrid
BEGIN:VEVENT
SUMMARY:Sant Vicenç 2020: Concert Coral de Sant Vicenç
DTSTART;VALUE=DATE:20200126
DTEND;VALUE=DATE:20200127
DTSTAMP;VALUE=DATE-TIME:20260423T124710Z
UID:fdd94bcf090a473c8fc7f207307f3a43@www.molletvalles.cat
CATEGORIES:Música\, cinema i espectacles
CREATED;VALUE=DATE-TIME:20200115T132033Z
LAST-MODIFIED;VALUE=DATE-TIME:20221222T044714Z
LOCATION:Església de Sant Vicenç
URL:https://www.molletvalles.cat/ca/actualitat/agenda/21577
END:VEVENT
END:VCALENDAR
