BEGIN:VCALENDAR
VERSION:2.0
PRODID:-//Plone.org//NONSGML plone.app.event//EN
X-WR-TIMEZONE:Europe/Madrid
BEGIN:VEVENT
SUMMARY:Sortida Visita exposició: Barcelona i els Quatre gats. un gir ver
 s la modernitat
DTSTART;VALUE=DATE:20200125
DTEND;VALUE=DATE:20200126
DTSTAMP;VALUE=DATE-TIME:20260423T152604Z
UID:5502430832e845d89398b5d38fb8829d@www.molletvalles.cat
CATEGORIES:Sortides i excursions
CREATED;VALUE=DATE-TIME:20200116T095009Z
LAST-MODIFIED;VALUE=DATE-TIME:20221222T044730Z
LOCATION:Galeria d’Art Gothsland (C. Consell de Cent\, 331-Barcelona-)
URL:https://www.molletvalles.cat/ca/actualitat/agenda/21583
END:VEVENT
END:VCALENDAR
