BEGIN:VCALENDAR
VERSION:2.0
PRODID:-//Plone.org//NONSGML plone.app.event//EN
X-WR-TIMEZONE:Europe/Madrid
BEGIN:VEVENT
SUMMARY:Capta de Sang
DTSTART;VALUE=DATE:20200306
DTEND;VALUE=DATE:20200307
DTSTAMP;VALUE=DATE-TIME:20260421T174438Z
UID:2c8713df73f545e7829f5c13d0dfb603@www.molletvalles.cat
CATEGORIES:Actes diversos
CREATED;VALUE=DATE-TIME:20200220T092006Z
LAST-MODIFIED;VALUE=DATE-TIME:20221222T045135Z
URL:https://www.molletvalles.cat/ca/actualitat/agenda/21668
END:VEVENT
END:VCALENDAR
