BEGIN:VCALENDAR
VERSION:2.0
PRODID:-//Plone.org//NONSGML plone.app.event//EN
X-WR-TIMEZONE:Europe/Madrid
BEGIN:VEVENT
SUMMARY:L'Hora del Conte: "Un món de contes" amb Gemma García Vilardell
DTSTART;VALUE=DATE:20210716
DTEND;VALUE=DATE:20210717
DTSTAMP;VALUE=DATE-TIME:20260425T122859Z
UID:cdea8baf91d64d42a57d1c82476da07e@www.molletvalles.cat
CATEGORIES:Infantils
CREATED;VALUE=DATE-TIME:20210630T063220Z
LAST-MODIFIED;VALUE=DATE-TIME:20221222T045825Z
URL:https://www.molletvalles.cat/ca/actualitat/agenda/21863
END:VEVENT
END:VCALENDAR
