BEGIN:VCALENDAR
VERSION:2.0
PRODID:-//Plone.org//NONSGML plone.app.event//EN
X-WR-TIMEZONE:Europe/Madrid
BEGIN:VEVENT
SUMMARY:FESTA MAJOR 2021: Concert de sardanes amb la Cobla Jovenívola de 
 Sabadell
DTSTART;VALUE=DATE:20210822
DTEND;VALUE=DATE:20210823
DTSTAMP;VALUE=DATE-TIME:20260423T124458Z
UID:712552d4321a4753b55140376161ad19@www.molletvalles.cat
CATEGORIES:Música\, cinema i espectacles
CREATED;VALUE=DATE-TIME:20210722T073904Z
LAST-MODIFIED;VALUE=DATE-TIME:20221222T050129Z
LOCATION:Envelat (Pista Exterior pavelló d'Esports Riera Seca)
URL:https://www.molletvalles.cat/ca/actualitat/agenda/21900
END:VEVENT
END:VCALENDAR
