BEGIN:VCALENDAR
VERSION:2.0
PRODID:-//Plone.org//NONSGML plone.app.event//EN
X-WR-TIMEZONE:Europe/Madrid
BEGIN:VEVENT
SUMMARY:FESTA MAJOR 2021: Concert familiar "Superherois" Pop per Xics
DTSTART;VALUE=DATE:20210822
DTEND;VALUE=DATE:20210823
DTSTAMP;VALUE=DATE-TIME:20260423T152508Z
UID:e9448d81afc74938addc0c6f3293161c@www.molletvalles.cat
CATEGORIES:Música\, cinema i espectacles
CREATED;VALUE=DATE-TIME:20210722T082312Z
LAST-MODIFIED;VALUE=DATE-TIME:20221222T050145Z
LOCATION:Parc de Can Mulà
URL:https://www.molletvalles.cat/ca/actualitat/agenda/21903
END:VEVENT
END:VCALENDAR
