BEGIN:VCALENDAR
VERSION:2.0
PRODID:-//Plone.org//NONSGML plone.app.event//EN
X-WR-TIMEZONE:Europe/Madrid
BEGIN:VEVENT
SUMMARY:FESTA MAJOR 2021: Concert a la terrassa del Museu "Velvet Candles"
DTSTART;VALUE=DATE:20210822
DTEND;VALUE=DATE:20210823
DTSTAMP;VALUE=DATE-TIME:20260423T124309Z
UID:b643659f554e4e3d97210312a5336242@www.molletvalles.cat
CATEGORIES:Música\, cinema i espectacles
CREATED;VALUE=DATE-TIME:20210722T084741Z
LAST-MODIFIED;VALUE=DATE-TIME:20221222T050150Z
URL:https://www.molletvalles.cat/ca/actualitat/agenda/21904
END:VEVENT
END:VCALENDAR
