BEGIN:VCALENDAR
VERSION:2.0
PRODID:-//Plone.org//NONSGML plone.app.event//EN
X-WR-TIMEZONE:Europe/Madrid
BEGIN:VEVENT
SUMMARY:FESTA MAJOR 2021: Espectacle de foc - "Benvinguts a l'infern" a c
 àrrec del Ball de Diables de Mollet
DTSTART;VALUE=DATE:20210822
DTEND;VALUE=DATE:20210823
DTSTAMP;VALUE=DATE-TIME:20260423T124546Z
UID:89d95eebf65849b79f434cd1d69c68ee@www.molletvalles.cat
CATEGORIES:Música\, cinema i espectacles
CREATED;VALUE=DATE-TIME:20210722T102436Z
LAST-MODIFIED;VALUE=DATE-TIME:20221222T050206Z
LOCATION:Pati de l'escola Col·legis Nous
URL:https://www.molletvalles.cat/ca/actualitat/agenda/21907
END:VEVENT
END:VCALENDAR
