BEGIN:VCALENDAR
VERSION:2.0
PRODID:-//Plone.org//NONSGML plone.app.event//EN
X-WR-TIMEZONE:Europe/Madrid
BEGIN:VEVENT
SUMMARY:M'EN CANTA. CICLE DE VEUS EN MOVIMENT: Taller de Gòspel
DTSTART;VALUE=DATE:20211002
DTEND;VALUE=DATE:20211003
DTSTAMP;VALUE=DATE-TIME:20260423T124303Z
UID:046ce1e10ad64844a41a2cbe915d48e5@www.molletvalles.cat
CATEGORIES:Cursos i tallers
CREATED;VALUE=DATE-TIME:20210923T105727Z
LAST-MODIFIED;VALUE=DATE-TIME:20221222T050701Z
URL:https://www.molletvalles.cat/ca/actualitat/agenda/21964
END:VEVENT
END:VCALENDAR
