BEGIN:VCALENDAR
VERSION:2.0
PRODID:-//Plone.org//NONSGML plone.app.event//EN
X-WR-TIMEZONE:Europe/Madrid
BEGIN:VEVENT
SUMMARY:Festa Major de Sant Vicenç: Arts Escèniques: "Una nit amb el Mag
  Lari"
DTSTART;VALUE=DATE:20220129
DTEND;VALUE=DATE:20220130
DTSTAMP;VALUE=DATE-TIME:20260419T163606Z
UID:0b0635db13964b92b793a2a92cff7761@www.molletvalles.cat
CATEGORIES:Música\, cinema i espectacles
CREATED;VALUE=DATE-TIME:20211019T080934Z
LAST-MODIFIED;VALUE=DATE-TIME:20221222T050945Z
URL:https://www.molletvalles.cat/ca/actualitat/agenda/21996
END:VEVENT
END:VCALENDAR
