BEGIN:VCALENDAR
VERSION:2.0
PRODID:-//Plone.org//NONSGML plone.app.event//EN
X-WR-TIMEZONE:Europe/Madrid
BEGIN:VEVENT
SUMMARY:Espectacle de Play Back: "Las Supernenas de Can Pantiquet"
DTSTART;VALUE=DATE:20211112
DTEND;VALUE=DATE:20211113
DTSTAMP;VALUE=DATE-TIME:20260421T102212Z
UID:8e9d0f2442bb40acb4c1cbcac331800d@www.molletvalles.cat
CATEGORIES:Música\, cinema i espectacles
CREATED;VALUE=DATE-TIME:20211108T082930Z
LAST-MODIFIED;VALUE=DATE-TIME:20221222T072217Z
URL:https://www.molletvalles.cat/ca/actualitat/agenda/22017
END:VEVENT
END:VCALENDAR
