BEGIN:VCALENDAR
VERSION:2.0
PRODID:-//Plone.org//NONSGML plone.app.event//EN
X-WR-TIMEZONE:Europe/Madrid
BEGIN:VEVENT
SUMMARY:Inauguració exposició: "Desmuntem els rols de gènere"
DTSTART;VALUE=DATE:20211119
DTEND;VALUE=DATE:20211120
DTSTAMP;VALUE=DATE-TIME:20260423T133605Z
UID:b51ce2c1ef3140388a83f39c4e18bac9@www.molletvalles.cat
CATEGORIES:Exposicions i fires
CREATED;VALUE=DATE-TIME:20211116T104615Z
LAST-MODIFIED;VALUE=DATE-TIME:20221222T072339Z
URL:https://www.molletvalles.cat/ca/actualitat/agenda/22036
END:VEVENT
END:VCALENDAR
