BEGIN:VCALENDAR
VERSION:2.0
PRODID:-//Plone.org//NONSGML plone.app.event//EN
X-WR-TIMEZONE:Europe/Madrid
BEGIN:VEVENT
SUMMARY:El Trenet de Nadal
DTSTART;VALUE=DATE:20211222
DTEND;VALUE=DATE:20211223
DTSTAMP;VALUE=DATE-TIME:20260419T163810Z
UID:2a92c9413059426abe0ce10cb3624ee9@www.molletvalles.cat
CATEGORIES:Infantils
CREATED;VALUE=DATE-TIME:20211213T093948Z
LAST-MODIFIED;VALUE=DATE-TIME:20221222T072750Z
URL:https://www.molletvalles.cat/ca/actualitat/agenda/22105
END:VEVENT
END:VCALENDAR
