BEGIN:VCALENDAR
VERSION:2.0
PRODID:-//Plone.org//NONSGML plone.app.event//EN
X-WR-TIMEZONE:Europe/Madrid
BEGIN:VEVENT
SUMMARY:Arts Escèniques: "Ovelles"
DTSTART;VALUE=DATE:20220212
DTEND;VALUE=DATE:20220213
DTSTAMP;VALUE=DATE-TIME:20260423T124751Z
UID:280baab4f22649d98c69f76027f4ee5a@www.molletvalles.cat
CATEGORIES:Música\, cinema i espectacles
CREATED;VALUE=DATE-TIME:20220128T104453Z
LAST-MODIFIED;VALUE=DATE-TIME:20221222T073025Z
URL:https://www.molletvalles.cat/ca/actualitat/agenda/22149
END:VEVENT
END:VCALENDAR
