BEGIN:VCALENDAR
VERSION:2.0
PRODID:-//Plone.org//NONSGML plone.app.event//EN
X-WR-TIMEZONE:Europe/Madrid
BEGIN:VEVENT
SUMMARY:Taller de còmic. A càrrec de Harry Patos
DTSTART;VALUE=DATE:20220203
DTEND;VALUE=DATE:20220204
DTSTAMP;VALUE=DATE-TIME:20260419T163955Z
UID:dffdbd2a55884067827824c282721c07@www.molletvalles.cat
CATEGORIES:Cursos i tallers
CREATED;VALUE=DATE-TIME:20220131T075655Z
LAST-MODIFIED;VALUE=DATE-TIME:20221222T073054Z
URL:https://www.molletvalles.cat/ca/actualitat/agenda/22160
END:VEVENT
END:VCALENDAR
