BEGIN:VCALENDAR
VERSION:2.0
PRODID:-//Plone.org//NONSGML plone.app.event//EN
X-WR-TIMEZONE:Europe/Madrid
BEGIN:VEVENT
SUMMARY:Ofrena floral Amical Mauthausen
DTSTART;VALUE=DATE:20220505
DTEND;VALUE=DATE:20220506
DTSTAMP;VALUE=DATE-TIME:20260423T124653Z
UID:b56cec8bbd7c432e91c91e485603f596@www.molletvalles.cat
CATEGORIES:Actes diversos
CREATED;VALUE=DATE-TIME:20220427T120735Z
LAST-MODIFIED;VALUE=DATE-TIME:20221222T074004Z
LOCATION:Plaça d'Amical Mauthausen
URL:https://www.molletvalles.cat/ca/actualitat/agenda/22295
END:VEVENT
END:VCALENDAR
