BEGIN:VCALENDAR
VERSION:2.0
PRODID:-//Plone.org//NONSGML plone.app.event//EN
X-WR-TIMEZONE:Europe/Madrid
BEGIN:VEVENT
SUMMARY:Inauguració Cruz de Mayo
DTSTART;VALUE=DATE:20220429
DTEND;VALUE=DATE:20220430
DTSTAMP;VALUE=DATE-TIME:20260419T163957Z
UID:581040edb6404f438a6a6992e3687a0f@www.molletvalles.cat
CATEGORIES:Festes populars
CREATED;VALUE=DATE-TIME:20220428T121825Z
LAST-MODIFIED;VALUE=DATE-TIME:20221222T074025Z
URL:https://www.molletvalles.cat/ca/actualitat/agenda/22300
END:VEVENT
END:VCALENDAR
