BEGIN:VCALENDAR
VERSION:2.0
PRODID:-//Plone.org//NONSGML plone.app.event//EN
X-WR-TIMEZONE:Europe/Madrid
BEGIN:VEVENT
SUMMARY:Exposicions en Femení: "Carmín"
DTSTART;VALUE=DATE:20220527
DTEND;VALUE=DATE:20220528
DTSTAMP;VALUE=DATE-TIME:20260423T124855Z
UID:54822a3ff0b24ed886f347e3cea770c1@www.molletvalles.cat
CATEGORIES:Exposicions i fires
CREATED;VALUE=DATE-TIME:20220525T085459Z
LAST-MODIFIED;VALUE=DATE-TIME:20221222T074559Z
URL:https://www.molletvalles.cat/ca/actualitat/agenda/22376
END:VEVENT
END:VCALENDAR
