BEGIN:VCALENDAR
VERSION:2.0
PRODID:-//Plone.org//NONSGML plone.app.event//EN
X-WR-TIMEZONE:Europe/Madrid
BEGIN:VEVENT
SUMMARY:GAZPACHO POR SEVILLANAS
DTSTART;VALUE=DATE:20220702
DTEND;VALUE=DATE:20220703
DTSTAMP;VALUE=DATE-TIME:20260423T124627Z
UID:71b35425127242e2811f4ebc281e667b@www.molletvalles.cat
CATEGORIES:Música\, cinema i espectacles
CREATED;VALUE=DATE-TIME:20220627T081456Z
LAST-MODIFIED;VALUE=DATE-TIME:20221222T074946Z
LOCATION:Parc de Can Mulà
URL:https://www.molletvalles.cat/ca/actualitat/agenda/22432
END:VEVENT
END:VCALENDAR
