BEGIN:VCALENDAR
VERSION:2.0
PRODID:-//Plone.org//NONSGML plone.app.event//EN
X-WR-TIMEZONE:Europe/Madrid
BEGIN:VEVENT
SUMMARY:Taller familiar: Fes el teu atrapasomnis
DTSTART;VALUE=DATE:20220711
DTEND;VALUE=DATE:20220712
DTSTAMP;VALUE=DATE-TIME:20260423T133615Z
UID:c3c81bc0410546cf8b598bf936f3a338@www.molletvalles.cat
CATEGORIES:Cursos i tallers
CREATED;VALUE=DATE-TIME:20220711T114455Z
LAST-MODIFIED;VALUE=DATE-TIME:20221222T075207Z
LOCATION:Abacus Mollet
URL:https://www.molletvalles.cat/ca/actualitat/agenda/22463
END:VEVENT
END:VCALENDAR
