BEGIN:VCALENDAR
VERSION:2.0
PRODID:-//Plone.org//NONSGML plone.app.event//EN
X-WR-TIMEZONE:Europe/Madrid
BEGIN:VEVENT
SUMMARY:FESTA MAJOR 2022: Tallers infantils - Mirall\, Mirallet\, qui és 
 la més bella?
DTSTART;VALUE=DATE:20220815
DTEND;VALUE=DATE:20220816
DTSTAMP;VALUE=DATE-TIME:20260423T124854Z
UID:e499e562045c4c30afcef6d95990d22e@www.molletvalles.cat
CATEGORIES:Infantils
CREATED;VALUE=DATE-TIME:20220714T103916Z
LAST-MODIFIED;VALUE=DATE-TIME:20221222T075248Z
LOCATION:Plaça Prat de la Riba
URL:https://www.molletvalles.cat/ca/actualitat/agenda/22471
END:VEVENT
END:VCALENDAR
