BEGIN:VCALENDAR
VERSION:2.0
PRODID:-//Plone.org//NONSGML plone.app.event//EN
X-WR-TIMEZONE:Europe/Madrid
BEGIN:VEVENT
SUMMARY:FESTA MAJOR 2022: La Barrilada
DTSTART;VALUE=DATE:20220820
DTEND;VALUE=DATE:20220821
DTSTAMP;VALUE=DATE-TIME:20260425T122933Z
UID:9aaecc1b8a7a41018f5d4db027beb551@www.molletvalles.cat
CATEGORIES:Festes populars
CREATED;VALUE=DATE-TIME:20220720T105440Z
LAST-MODIFIED;VALUE=DATE-TIME:20221222T075946Z
LOCATION:Plaça Prat de la Riba
URL:https://www.molletvalles.cat/ca/actualitat/agenda/22527
END:VEVENT
END:VCALENDAR
