BEGIN:VCALENDAR
VERSION:2.0
PRODID:-//Plone.org//NONSGML plone.app.event//EN
X-WR-TIMEZONE:Europe/Madrid
BEGIN:VEVENT
SUMMARY:FESTA MAJOR 2022: Corregot infantil
DTSTART;VALUE=DATE:20220823
DTEND;VALUE=DATE:20220824
DTSTAMP;VALUE=DATE-TIME:20260425T124313Z
UID:643051aa5f7e4d33a243efbc36ac2f82@www.molletvalles.cat
CATEGORIES:Infantils
CREATED;VALUE=DATE-TIME:20220726T092545Z
LAST-MODIFIED;VALUE=DATE-TIME:20221222T080409Z
LOCATION:Plaça Pau Casals
URL:https://www.molletvalles.cat/ca/actualitat/agenda/22578
END:VEVENT
END:VCALENDAR
