BEGIN:VCALENDAR
VERSION:2.0
PRODID:-//Plone.org//NONSGML plone.app.event//EN
X-WR-TIMEZONE:Europe/Madrid
BEGIN:VEVENT
SUMMARY:FESTA MAJOR 2022: Corregot adult
DTSTART;VALUE=DATE:20220823
DTEND;VALUE=DATE:20220824
DTSTAMP;VALUE=DATE-TIME:20260419T164043Z
UID:205238e9e1b64262aa9c06e674683acd@www.molletvalles.cat
CATEGORIES:Festes populars
CREATED;VALUE=DATE-TIME:20220726T094342Z
LAST-MODIFIED;VALUE=DATE-TIME:20221222T080414Z
LOCATION:Plaça Pau Casals
URL:https://www.molletvalles.cat/ca/actualitat/agenda/22579
END:VEVENT
END:VCALENDAR
