BEGIN:VCALENDAR
VERSION:2.0
PRODID:-//Plone.org//NONSGML plone.app.event//EN
X-WR-TIMEZONE:Europe/Madrid
BEGIN:VEVENT
SUMMARY:Presentació del conte infantil: "El tractoret verd"
DTSTART;VALUE=DATE:20221007
DTEND;VALUE=DATE:20221008
DTSTAMP;VALUE=DATE-TIME:20260419T164042Z
UID:8ede6934d76844a783527ac66f75e775@www.molletvalles.cat
CATEGORIES:Infantils
CREATED;VALUE=DATE-TIME:20220922T113235Z
LAST-MODIFIED;VALUE=DATE-TIME:20221222T080829Z
URL:https://www.molletvalles.cat/ca/actualitat/agenda/22638
END:VEVENT
END:VCALENDAR
