BEGIN:VCALENDAR
VERSION:2.0
PRODID:-//Plone.org//NONSGML plone.app.event//EN
X-WR-TIMEZONE:Europe/Madrid
BEGIN:VEVENT
SUMMARY:Club de lectura especial Vampirs: "Dràcula" de Bram Stoker
DTSTART;VALUE=DATE:20221026
DTEND;VALUE=DATE:20221027
DTSTAMP;VALUE=DATE-TIME:20260423T104114Z
UID:6ef0b071ec6e4383b10a76fe5c6623be@www.molletvalles.cat
CATEGORIES:Juvenils
CREATED;VALUE=DATE-TIME:20220927T084718Z
LAST-MODIFIED;VALUE=DATE-TIME:20221222T080908Z
URL:https://www.molletvalles.cat/ca/actualitat/agenda/22648
END:VEVENT
END:VCALENDAR
