BEGIN:VCALENDAR
VERSION:2.0
PRODID:-//Plone.org//NONSGML plone.app.event//EN
X-WR-TIMEZONE:Europe/Madrid
BEGIN:VEVENT
SUMMARY:Espectacle de Playback Prenadal dels Amics de l'Art
DTSTART;VALUE=DATE:20221130
DTEND;VALUE=DATE:20221201
DTSTAMP;VALUE=DATE-TIME:20260423T170700Z
UID:0fb367d0d4064f45a19df3ff26737309@www.molletvalles.cat
CATEGORIES:Música\, cinema i espectacles
CREATED;VALUE=DATE-TIME:20221014T105828Z
LAST-MODIFIED;VALUE=DATE-TIME:20221222T081313Z
URL:https://www.molletvalles.cat/ca/actualitat/agenda/22701
END:VEVENT
END:VCALENDAR
