BEGIN:VCALENDAR
VERSION:2.0
PRODID:-//Plone.org//NONSGML plone.app.event//EN
X-WR-TIMEZONE:Europe/Madrid
BEGIN:VEVENT
SUMMARY:Xerrada: "Mollet: els primers documents\, imatges i llibres"
DTSTART;VALUE=DATE:20221121
DTEND;VALUE=DATE:20221122
DTSTAMP;VALUE=DATE-TIME:20260423T124854Z
UID:7fe7ed779c1c4d979771366bd3e97bce@www.molletvalles.cat
CATEGORIES:Conferències
CREATED;VALUE=DATE-TIME:20221018T064454Z
LAST-MODIFIED;VALUE=DATE-TIME:20221222T081350Z
URL:https://www.molletvalles.cat/ca/actualitat/agenda/22711
END:VEVENT
END:VCALENDAR
