BEGIN:VCALENDAR
VERSION:2.0
PRODID:-//Plone.org//NONSGML plone.app.event//EN
X-WR-TIMEZONE:Europe/Madrid
BEGIN:VEVENT
SUMMARY:Taller-demostració: Juguem al Mascotas!
DTSTART;VALUE=DATE:20221022
DTEND;VALUE=DATE:20221023
DTSTAMP;VALUE=DATE-TIME:20260419T163721Z
UID:682cd569fa384cb29ce622bbf36df98a@www.molletvalles.cat
CATEGORIES:Juvenils
CREATED;VALUE=DATE-TIME:20221019T114045Z
LAST-MODIFIED;VALUE=DATE-TIME:20221222T081524Z
LOCATION:Abacus Mollet
URL:https://www.molletvalles.cat/ca/actualitat/agenda/22733
END:VEVENT
END:VCALENDAR
