BEGIN:VCALENDAR
VERSION:2.0
PRODID:-//Plone.org//NONSGML plone.app.event//EN
X-WR-TIMEZONE:Europe/Madrid
BEGIN:VEVENT
SUMMARY:XXX Diada de la Colla Castellera: Animació amb Jaume Barri
DTSTART;VALUE=DATE:20221028
DTEND;VALUE=DATE:20221029
DTSTAMP;VALUE=DATE-TIME:20260423T124711Z
UID:f83eb2748c7d42d888fd58577a6018da@www.molletvalles.cat
CATEGORIES:Festes populars
CREATED;VALUE=DATE-TIME:20221021T084002Z
LAST-MODIFIED;VALUE=DATE-TIME:20221222T081614Z
URL:https://www.molletvalles.cat/ca/actualitat/agenda/22746
END:VEVENT
END:VCALENDAR
