BEGIN:VCALENDAR
VERSION:2.0
PRODID:-//Plone.org//NONSGML plone.app.event//EN
X-WR-TIMEZONE:Europe/Madrid
BEGIN:VEVENT
SUMMARY:Horror Live Show amb Kilian Noise                
DTSTART;VALUE=DATE:20221028
DTEND;VALUE=DATE:20221029
DTSTAMP;VALUE=DATE-TIME:20260425T125700Z
UID:fb8b728913d044e18b1a55042ba4134d@www.molletvalles.cat
CATEGORIES:Música\, cinema i espectacles
CREATED;VALUE=DATE-TIME:20221026T080859Z
LAST-MODIFIED;VALUE=DATE-TIME:20221222T081800Z
URL:https://www.molletvalles.cat/ca/actualitat/agenda/22772
END:VEVENT
END:VCALENDAR
