BEGIN:VCALENDAR
VERSION:2.0
PRODID:-//Plone.org//NONSGML plone.app.event//EN
X-WR-TIMEZONE:Europe/Madrid
BEGIN:VEVENT
SUMMARY:Salsa i batxata Contra el Càncer
DTSTART;VALUE=DATE:20221106
DTEND;VALUE=DATE:20221107
DTSTAMP;VALUE=DATE-TIME:20260425T143718Z
UID:291a7d86f1764598980a3decae2c805f@www.molletvalles.cat
CATEGORIES:Música\, cinema i espectacles
CREATED;VALUE=DATE-TIME:20221104T073210Z
LAST-MODIFIED;VALUE=DATE-TIME:20221222T081847Z
URL:https://www.molletvalles.cat/ca/actualitat/agenda/22785
END:VEVENT
END:VCALENDAR
