BEGIN:VCALENDAR
VERSION:2.0
PRODID:-//Plone.org//NONSGML plone.app.event//EN
X-WR-TIMEZONE:Europe/Madrid
BEGIN:VEVENT
SUMMARY:Contacontes: Fas 6 anys. Cap de grills d’Estel Solé
DTSTART;VALUE=DATE:20221119
DTEND;VALUE=DATE:20221120
DTSTAMP;VALUE=DATE-TIME:20260423T124854Z
UID:c4056c79d4624497a91a9c492af09216@www.molletvalles.cat
CATEGORIES:Infantils
CREATED;VALUE=DATE-TIME:20221116T070653Z
LAST-MODIFIED;VALUE=DATE-TIME:20221222T082032Z
LOCATION:Abacus Mollet
URL:https://www.molletvalles.cat/ca/actualitat/agenda/22810
END:VEVENT
END:VCALENDAR
