BEGIN:VCALENDAR
VERSION:2.0
PRODID:-//Plone.org//NONSGML plone.app.event//EN
X-WR-TIMEZONE:Europe/Madrid
BEGIN:VEVENT
SUMMARY:NADAL A MOLLET: Nadal en Anglès\, Little Chef. Cuinem en anglès
DTSTART;VALUE=DATE:20221217
DTEND;VALUE=DATE:20221218
DTSTAMP;VALUE=DATE-TIME:20260423T124822Z
UID:fedab3be3db1483bbcb4c27322ef240c@www.molletvalles.cat
CATEGORIES:Actes diversos
CREATED;VALUE=DATE-TIME:20221130T120021Z
LAST-MODIFIED;VALUE=DATE-TIME:20221222T082231Z
LOCATION:Quiosc de Plaça Catalunya
URL:https://www.molletvalles.cat/ca/actualitat/agenda/22840
END:VEVENT
END:VCALENDAR
