BEGIN:VCALENDAR
VERSION:2.0
PRODID:-//Plone.org//NONSGML plone.app.event//EN
X-WR-TIMEZONE:Europe/Madrid
BEGIN:VEVENT
SUMMARY:Exposició de pintura: "Res no és\, tot canvia"\, de Marc A. Pér
 ez Oliván
DTSTART;VALUE=DATE:20110211
DTEND;VALUE=DATE:20110212
DTSTAMP;VALUE=DATE-TIME:20260423T124652Z
UID:763a6830a16c4016b739c95d78bb62c8@www.molletvalles.cat
CATEGORIES:Exposicions i fires
CREATED;VALUE=DATE-TIME:20110208T135627Z
LAST-MODIFIED;VALUE=DATE-TIME:20221221T220350Z
URL:https://www.molletvalles.cat/ca/actualitat/agenda/2701
END:VEVENT
END:VCALENDAR
