BEGIN:VCALENDAR
VERSION:2.0
PRODID:-//Plone.org//NONSGML plone.app.event//EN
X-WR-TIMEZONE:Europe/Madrid
BEGIN:VEVENT
SUMMARY:36a Cursa Escolar Popular de l'Escola Anselm Clavé\, Memorial Hel
 iodoro Jiménez
DTSTART;TZID=Europe/Madrid;VALUE=DATE-TIME:20240428T090000
DTEND;TZID=Europe/Madrid;VALUE=DATE-TIME:20240428T100000
DTSTAMP;VALUE=DATE-TIME:20260421T140239Z
UID:6da740556bbb4019be1249e99989a783@www.molletvalles.cat
CATEGORIES:Esports
CREATED;VALUE=DATE-TIME:20240417T101658Z
LAST-MODIFIED;VALUE=DATE-TIME:20240423T100051Z
LOCATION:Berenguer III i centre urbà
URL:https://www.molletvalles.cat/ca/actualitat/agenda/36a-cursa-escolar-po
 pular-de-lescola-anselm-clave-memorial-heliodoro-jimenez
END:VEVENT
BEGIN:VTIMEZONE
TZID:Europe/Madrid
X-LIC-LOCATION:Europe/Madrid
BEGIN:DAYLIGHT
DTSTART;VALUE=DATE-TIME:20240331T030000
TZNAME:CEST
TZOFFSETFROM:+0100
TZOFFSETTO:+0200
END:DAYLIGHT
END:VTIMEZONE
END:VCALENDAR
