BEGIN:VCALENDAR
VERSION:2.0
PRODID:-//Plone.org//NONSGML plone.app.event//EN
X-WR-TIMEZONE:Europe/Madrid
BEGIN:VEVENT
SUMMARY:40a Fira d'Artesans: Actuació castellera amb Castellers de Mollet
 \, Colla Jove de l'Hospitalet i Castellers de Sant Feliu
DTSTART;TZID=Europe/Madrid;VALUE=DATE-TIME:20240915T120000
DTEND;TZID=Europe/Madrid;VALUE=DATE-TIME:20240915T130000
DTSTAMP;VALUE=DATE-TIME:20260419T170421Z
UID:b5bbc2978c1d4177a1ccadb53d4313f4@www.molletvalles.cat
CATEGORIES:Festes populars
CREATED;VALUE=DATE-TIME:20240906T093341Z
LAST-MODIFIED;VALUE=DATE-TIME:20240906T093452Z
LOCATION:Plaça de l'Artesania
URL:https://www.molletvalles.cat/ca/actualitat/agenda/40a-fira-dartesans-a
 ctuacio-castellera-amb-castellers-de-mollet-colla-jove-de-lhospitalet-i-ca
 stellers-de-sant-feliu
END:VEVENT
BEGIN:VTIMEZONE
TZID:Europe/Madrid
X-LIC-LOCATION:Europe/Madrid
BEGIN:DAYLIGHT
DTSTART;VALUE=DATE-TIME:20240331T030000
TZNAME:CEST
TZOFFSETFROM:+0100
TZOFFSETTO:+0200
END:DAYLIGHT
END:VTIMEZONE
END:VCALENDAR
