BEGIN:VCALENDAR
VERSION:2.0
PRODID:-//Plone.org//NONSGML plone.app.event//EN
X-WR-TIMEZONE:Europe/Madrid
BEGIN:VEVENT
SUMMARY:40a Fira d'Artesans: Tallers artesanals per a infants
DTSTART;TZID=Europe/Madrid;VALUE=DATE-TIME:20240914T110000
DTEND;TZID=Europe/Madrid;VALUE=DATE-TIME:20240914T130000
DTSTAMP;VALUE=DATE-TIME:20260421T140231Z
UID:d5bc1542688048b88fa7f97b7275c021@www.molletvalles.cat
CATEGORIES:Cursos i tallers
CREATED;VALUE=DATE-TIME:20240905T114641Z
LAST-MODIFIED;VALUE=DATE-TIME:20240905T114749Z
LOCATION:Plaça de l'Artesania
URL:https://www.molletvalles.cat/ca/actualitat/agenda/40a-fira-dartesans-t
 allers-artesanals-per-a-infants
END:VEVENT
BEGIN:VTIMEZONE
TZID:Europe/Madrid
X-LIC-LOCATION:Europe/Madrid
BEGIN:DAYLIGHT
DTSTART;VALUE=DATE-TIME:20240331T030000
TZNAME:CEST
TZOFFSETFROM:+0100
TZOFFSETTO:+0200
END:DAYLIGHT
END:VTIMEZONE
END:VCALENDAR
