BEGIN:VCALENDAR
VERSION:2.0
PRODID:-//Plone.org//NONSGML plone.app.event//EN
X-WR-TIMEZONE:Europe/Madrid
BEGIN:VEVENT
SUMMARY:46è Aniversari del Centro Cultural Andaluz
DTSTART;TZID=Europe/Madrid;VALUE=DATE-TIME:20250405T183000
DTEND;TZID=Europe/Madrid;VALUE=DATE-TIME:20250405T193000
DTSTAMP;VALUE=DATE-TIME:20260421T135518Z
UID:89881438ebf14aa79f40901292e1d431@www.molletvalles.cat
CATEGORIES:Arts escèniques
CREATED;VALUE=DATE-TIME:20250324T130935Z
LAST-MODIFIED;VALUE=DATE-TIME:20250324T131426Z
URL:https://www.molletvalles.cat/ca/actualitat/agenda/46e-aniversari-del-c
 entro-cultural-andaluz
END:VEVENT
BEGIN:VTIMEZONE
TZID:Europe/Madrid
X-LIC-LOCATION:Europe/Madrid
BEGIN:DAYLIGHT
DTSTART;VALUE=DATE-TIME:20250330T030000
TZNAME:CEST
TZOFFSETFROM:+0100
TZOFFSETTO:+0200
END:DAYLIGHT
END:VTIMEZONE
END:VCALENDAR
